BEGIN:VCALENDAR
PRODID:-//Pixl8//Eventfolio//EN
VERSION:2.0
X-WR-TIMEZONE:Australia/Adelaide
CALSCALE:GREGORIAN
METHOD:PUBLISH
CLASS:PUBLIC
BEGIN:VTIMEZONE
TZID:Australia/Adelaide
LAST-MODIFIED:20260306T231828Z
TZURL:https://www.tzurl.org/zoneinfo-outlook/Australia/Adelaide
X-LIC-LOCATION:Australia/Adelaide
BEGIN:STANDARD
TZNAME:ACST
TZOFFSETFROM:+1030
TZOFFSETTO:+0930
DTSTART:19700405T030000
RRULE:FREQ=YEARLY;BYMONTH=4;BYDAY=1SU
END:STANDARD
BEGIN:DAYLIGHT
TZNAME:ACDT
TZOFFSETFROM:+0930
TZOFFSETTO:+1030
DTSTART:19701004T020000
RRULE:FREQ=YEARLY;BYMONTH=10;BYDAY=1SU
END:DAYLIGHT
END:VTIMEZONE
BEGIN:VEVENT
DTSTART;TZID=Australia/Adelaide:20250517T083000
DTEND;TZID=Australia/Adelaide:20250517T120000
DTSTAMP:20260421T184037Z
UID:{AE9FA0D8-9BD7-4B80-94C036137790CB99}
LOCATION:Mantra - Mount Gambier\, 96 Jubilee Highway\, Mount Gambier\, SA 5290; Jarmers Kitchen - Adelaide\, 18 Park Tce\, Bowden\, SA 5007; Westlands Hotel\, Whyalla\, 100 Mcdouall Stuart Ave\, Whyalla Norrie SA 5608
SUMMARY:What's new in Brain Cancer
DESCRIPTION:Join us for a half-day update exploring the latest developments in brain cancer care, from emerging therapies to supportive care innovations.\n
 \n
 Event details: https://www.cnsa.org.au/ems-event-calendar/what-s-new-in-brain-cancer-.html
PRIORITY:1
END:VEVENT
END:VCALENDAR