BEGIN:VCALENDAR
PRODID:-//Pixl8//Eventfolio//EN
VERSION:2.0
X-WR-TIMEZONE:Australia/Sydney
CALSCALE:GREGORIAN
METHOD:PUBLISH
CLASS:PUBLIC
BEGIN:VTIMEZONE
TZID:Australia/Sydney
LAST-MODIFIED:20260306T231828Z
TZURL:https://www.tzurl.org/zoneinfo-outlook/Australia/Sydney
X-LIC-LOCATION:Australia/Sydney
BEGIN:STANDARD
TZNAME:AEST
TZOFFSETFROM:+1100
TZOFFSETTO:+1000
DTSTART:19700405T030000
RRULE:FREQ=YEARLY;BYMONTH=4;BYDAY=1SU
END:STANDARD
BEGIN:DAYLIGHT
TZNAME:AEDT
TZOFFSETFROM:+1000
TZOFFSETTO:+1100
DTSTART:19701004T020000
RRULE:FREQ=YEARLY;BYMONTH=10;BYDAY=1SU
END:DAYLIGHT
END:VTIMEZONE
BEGIN:VEVENT
DTSTART;TZID=Australia/Sydney:20260316T173000
DTEND;TZID=Australia/Sydney:20260316T203000
DTSTAMP:20260421T184243Z
UID:{F57A9A6A-738C-4595-B82F5C9FDFFC0ED7}
LOCATION:The Link Toormina 631 Hogbin Dr\, Toormina NSW 2452 (Coffs Harbour)\, The Link Toormina 631 Hogbin Dr\, Toormina NSW 2452; Birdrock Bar and Grill shop 1/103-105 William St\, Port Macquarie NSW 2444\, Birdrock Bar and Grill shop 1/103-105 William St\, Port Macquarie NSW 2444
SUMMARY:Treating People Close to End of Life
DESCRIPTION:The NSW Mid North Coast State Group invites you to our first event for 2026. This dinner event offers practical guidance on recognising end-of-life needs, managing symptoms, and navigating sensitive conversations. Ideal for nurses and health professionals looking to strengthen their care approach at one of the most important stages of the cancer journey.\n
 \n
 Event details: https://www.cnsa.org.au/ems-event-calendar/treating-people-close-to-end-of-life.html
PRIORITY:1
END:VEVENT
END:VCALENDAR