BEGIN:VCALENDAR
PRODID:-//Pixl8//Eventfolio//EN
VERSION:2.0
X-WR-TIMEZONE:Australia/Sydney
CALSCALE:GREGORIAN
METHOD:PUBLISH
CLASS:PUBLIC
BEGIN:VTIMEZONE
TZID:Australia/Sydney
LAST-MODIFIED:20260306T231828Z
TZURL:https://www.tzurl.org/zoneinfo-outlook/Australia/Sydney
X-LIC-LOCATION:Australia/Sydney
BEGIN:STANDARD
TZNAME:AEST
TZOFFSETFROM:+1100
TZOFFSETTO:+1000
DTSTART:19700405T030000
RRULE:FREQ=YEARLY;BYMONTH=4;BYDAY=1SU
END:STANDARD
BEGIN:DAYLIGHT
TZNAME:AEDT
TZOFFSETFROM:+1000
TZOFFSETTO:+1100
DTSTART:19701004T020000
RRULE:FREQ=YEARLY;BYMONTH=10;BYDAY=1SU
END:DAYLIGHT
END:VTIMEZONE
BEGIN:VEVENT
DTSTART;TZID=Australia/Sydney:20260311T183000
DTEND;TZID=Australia/Sydney:20260311T203000
DTSTAMP:20260424T085614Z
UID:{72C3F849-ABD7-4AD4-9F04A24615D820F1}
LOCATION:Body First Health and Wellness\, Unit 1/28-36 Japaddy St\, Mordialloc VIC 3195
SUMMARY: Rest and Recovery Wellness Evening for Cancer Nurses.
DESCRIPTION:ONLY 3 tickets left - so get in quick! Restore vitality, strengthen connections, reduce burnout and improve mindfulness and functioning. Requested by our members who were looking for something different. This event will be your TREAT.\n
 \n
 Event details: https://www.cnsa.org.au/ems-event-calendar/rest-and-recovery-wellness-evening-for-cancer-nurses.html
PRIORITY:1
END:VEVENT
END:VCALENDAR