BEGIN:VCALENDAR
PRODID:-//Pixl8//Eventfolio//EN
VERSION:2.0
X-WR-TIMEZONE:Australia/Sydney
CALSCALE:GREGORIAN
METHOD:PUBLISH
CLASS:PUBLIC
BEGIN:VTIMEZONE
TZID:Australia/Sydney
LAST-MODIFIED:20260306T231828Z
TZURL:https://www.tzurl.org/zoneinfo-outlook/Australia/Sydney
X-LIC-LOCATION:Australia/Sydney
BEGIN:STANDARD
TZNAME:AEST
TZOFFSETFROM:+1100
TZOFFSETTO:+1000
DTSTART:19700405T030000
RRULE:FREQ=YEARLY;BYMONTH=4;BYDAY=1SU
END:STANDARD
BEGIN:DAYLIGHT
TZNAME:AEDT
TZOFFSETFROM:+1000
TZOFFSETTO:+1100
DTSTART:19701004T020000
RRULE:FREQ=YEARLY;BYMONTH=10;BYDAY=1SU
END:DAYLIGHT
END:VTIMEZONE
BEGIN:VEVENT
DTSTART;TZID=Australia/Sydney:20251113T120000
DTEND;TZID=Australia/Sydney:20251113T130000
DTSTAMP:20260421T182555Z
UID:{387E0B91-8F3A-40CA-AD7C849056D059D8}
LOCATION:
SUMMARY:Myelofibrosis Patient Journey
DESCRIPTION:Join us for this insightful session exploring the myelofibrosis patient journey from diagnosis through to long-term management. Hear how symptom burden, anaemia, and cytopenia impact patients’ quality of life, and gain practical knowledge on the latest treatment approaches, including the role of JAK inhibitors.\n
 \n
 Event details: https://www.cnsa.org.au/ems-event-calendar/myelofibrosis-patient-journey.html
PRIORITY:1
END:VEVENT
END:VCALENDAR