BEGIN:VCALENDAR
PRODID:-//Pixl8//Eventfolio//EN
VERSION:2.0
X-WR-TIMEZONE:Australia/Sydney
CALSCALE:GREGORIAN
METHOD:PUBLISH
CLASS:PUBLIC
BEGIN:VTIMEZONE
TZID:Australia/Sydney
LAST-MODIFIED:20260306T231828Z
TZURL:https://www.tzurl.org/zoneinfo-outlook/Australia/Sydney
X-LIC-LOCATION:Australia/Sydney
BEGIN:STANDARD
TZNAME:AEST
TZOFFSETFROM:+1100
TZOFFSETTO:+1000
DTSTART:19700405T030000
RRULE:FREQ=YEARLY;BYMONTH=4;BYDAY=1SU
END:STANDARD
BEGIN:DAYLIGHT
TZNAME:AEDT
TZOFFSETFROM:+1000
TZOFFSETTO:+1100
DTSTART:19701004T020000
RRULE:FREQ=YEARLY;BYMONTH=10;BYDAY=1SU
END:DAYLIGHT
END:VTIMEZONE
BEGIN:VEVENT
DTSTART;TZID=Australia/Sydney:20260421T190000
DTEND;TZID=Australia/Sydney:20260421T200000
DTSTAMP:20260421T063759Z
UID:{4EB57A6C-AB21-4111-AC198B91986260D2}
LOCATION:
SUMMARY:Innovation in the Management of Multiple Myeloma
DESCRIPTION:Explore emerging treatment approaches for transplant‑ineligible newly diagnosed multiple myeloma and discover how a regional tele‑oncology model is improving access, reducing travel burden, and supporting nurse‑led care closer to home.\n
 \n
 Event details: https://www.cnsa.org.au/ems-event-calendar/innovation-in-the-management-of-multiple-myeloma.html
PRIORITY:1
END:VEVENT
END:VCALENDAR