BEGIN:VCALENDAR
PRODID:-//Pixl8//Eventfolio//EN
VERSION:2.0
X-WR-TIMEZONE:Australia/Sydney
CALSCALE:GREGORIAN
METHOD:PUBLISH
CLASS:PUBLIC
BEGIN:VTIMEZONE
TZID:Australia/Sydney
LAST-MODIFIED:20260306T231828Z
TZURL:https://www.tzurl.org/zoneinfo-outlook/Australia/Sydney
X-LIC-LOCATION:Australia/Sydney
BEGIN:STANDARD
TZNAME:AEST
TZOFFSETFROM:+1100
TZOFFSETTO:+1000
DTSTART:19700405T030000
RRULE:FREQ=YEARLY;BYMONTH=4;BYDAY=1SU
END:STANDARD
BEGIN:DAYLIGHT
TZNAME:AEDT
TZOFFSETFROM:+1000
TZOFFSETTO:+1100
DTSTART:19701004T020000
RRULE:FREQ=YEARLY;BYMONTH=10;BYDAY=1SU
END:DAYLIGHT
END:VTIMEZONE
BEGIN:VEVENT
DTSTART;TZID=Australia/Sydney:20250826T190000
DTEND;TZID=Australia/Sydney:20250826T200000
DTSTAMP:20260421T184745Z
UID:{CD64A1C7-C61C-4180-990E2C48D238F735}
LOCATION:
SUMMARY:Immunotherapy and AE Management in eTNBC
DESCRIPTION:Immunotherapy is transforming care for early triple negative breast cancer, but it brings unique challenges in adverse event (AE) management. This webinar will guide cancer nurses through recognising and managing immune-related AEs associated with KEYTRUDA®, including patient education, when to escalate care, and how to handle complex issues like endocrinopathies.\n
 \n
 Event details: https://www.cnsa.org.au/ems-event-calendar/immunotherapy-and-ae-management-in-etnbc.html
PRIORITY:1
END:VEVENT
END:VCALENDAR