BEGIN:VCALENDAR
PRODID:-//Pixl8//Eventfolio//EN
VERSION:2.0
X-WR-TIMEZONE:Australia/Sydney
CALSCALE:GREGORIAN
METHOD:PUBLISH
CLASS:PUBLIC
BEGIN:VTIMEZONE
TZID:Australia/Sydney
LAST-MODIFIED:20260306T231828Z
TZURL:https://www.tzurl.org/zoneinfo-outlook/Australia/Sydney
X-LIC-LOCATION:Australia/Sydney
BEGIN:STANDARD
TZNAME:AEST
TZOFFSETFROM:+1100
TZOFFSETTO:+1000
DTSTART:19700405T030000
RRULE:FREQ=YEARLY;BYMONTH=4;BYDAY=1SU
END:STANDARD
BEGIN:DAYLIGHT
TZNAME:AEDT
TZOFFSETFROM:+1000
TZOFFSETTO:+1100
DTSTART:19701004T020000
RRULE:FREQ=YEARLY;BYMONTH=10;BYDAY=1SU
END:DAYLIGHT
END:VTIMEZONE
BEGIN:VEVENT
DTSTART;TZID=Australia/Sydney:20250325T173000
DTEND;TZID=Australia/Sydney:20250325T203000
DTSTAMP:20260421T183814Z
UID:{23075BC2-819C-4381-A17E75570EFF24D1}
LOCATION:The Link Toormina 631 Hogbin Dr\, Toormina NSW 2452 (Coffs Harbour)\, The Link Toormina 631 Hogbin Dr\, Toormina NSW 2452; Birdrock Bar & Grill\, 103-105 William St\, Port Macquarie NSW
SUMMARY:Immunotherapy: a History and Future
DESCRIPTION:Join us for an informative evening where we will explore the evolution of immunotherapy, its current applications, and what’s next on the horizon.\n
 \n
 Event details: https://www.cnsa.org.au/ems-event-calendar/immunotherapy-a-history-and-future.html
PRIORITY:1
END:VEVENT
END:VCALENDAR