BEGIN:VCALENDAR
PRODID:-//Pixl8//Eventfolio//EN
VERSION:2.0
X-WR-TIMEZONE:Australia/Sydney
CALSCALE:GREGORIAN
METHOD:PUBLISH
CLASS:PUBLIC
BEGIN:VTIMEZONE
TZID:Australia/Sydney
LAST-MODIFIED:20260306T231828Z
TZURL:https://www.tzurl.org/zoneinfo-outlook/Australia/Sydney
X-LIC-LOCATION:Australia/Sydney
BEGIN:STANDARD
TZNAME:AEST
TZOFFSETFROM:+1100
TZOFFSETTO:+1000
DTSTART:19700405T030000
RRULE:FREQ=YEARLY;BYMONTH=4;BYDAY=1SU
END:STANDARD
BEGIN:DAYLIGHT
TZNAME:AEDT
TZOFFSETFROM:+1000
TZOFFSETTO:+1100
DTSTART:19701004T020000
RRULE:FREQ=YEARLY;BYMONTH=10;BYDAY=1SU
END:DAYLIGHT
END:VTIMEZONE
BEGIN:VEVENT
DTSTART;TZID=Australia/Sydney:20250923T190000
DTEND;TZID=Australia/Sydney:20250923T200000
DTSTAMP:20260420T065104Z
UID:{D9F46ACD-EA5C-41A9-9AEBF8A9822AC1E6}
LOCATION:
SUMMARY:Clinical Progress in Practice: Managing Locally Advanced Cervical Cancer
DESCRIPTION:Immunotherapy is reshaping the treatment landscape for high-risk LACC. Join us to explore the latest evidence and practical strategies for managing complex treatment-related toxicities. This session will provide cancer nurses with up-to-date insights into the management of high-risk locally advanced cervical cancer (LACC), with a focus on integrating immunotherapy and radiotherapy into practice.\n
 \n
 Event details: https://www.cnsa.org.au/ems-event-calendar/clinical-progress-in-practice-managing-locally-advanced-cervical-cancer.html
PRIORITY:1
END:VEVENT
END:VCALENDAR