BEGIN:VCALENDAR
PRODID:-//Pixl8//Eventfolio//EN
VERSION:2.0
X-WR-TIMEZONE:Australia/Sydney
CALSCALE:GREGORIAN
METHOD:PUBLISH
CLASS:PUBLIC
BEGIN:VTIMEZONE
TZID:Australia/Sydney
LAST-MODIFIED:20260306T231828Z
TZURL:https://www.tzurl.org/zoneinfo-outlook/Australia/Sydney
X-LIC-LOCATION:Australia/Sydney
BEGIN:STANDARD
TZNAME:AEST
TZOFFSETFROM:+1100
TZOFFSETTO:+1000
DTSTART:19700405T030000
RRULE:FREQ=YEARLY;BYMONTH=4;BYDAY=1SU
END:STANDARD
BEGIN:DAYLIGHT
TZNAME:AEDT
TZOFFSETFROM:+1000
TZOFFSETTO:+1100
DTSTART:19701004T020000
RRULE:FREQ=YEARLY;BYMONTH=10;BYDAY=1SU
END:DAYLIGHT
END:VTIMEZONE
BEGIN:VEVENT
DTSTART;TZID=Australia/Sydney:20250814T130000
DTEND;TZID=Australia/Sydney:20250814T133000
DTSTAMP:20260420T070350Z
UID:{EA02F60A-C592-40A5-9E2BD55358B4AB11}
LOCATION:
SUMMARY:Celebrate Cancer Nurses Day with CNSA – Live Q&A with HESTA Nurse of the Year Winners
DESCRIPTION:Join us this Cancer Nurses Day for an inspiring lunchtime conversation with CNSA members and HESTA Nurse of the Year winners Shannon Philp, Sue Hegarty, and 2025 winner Ty Simpson.\n
 \n
 Event details: https://www.cnsa.org.au/ems-event-calendar/celebrate-cancer-nurses-day.html
PRIORITY:1
END:VEVENT
END:VCALENDAR