BEGIN:VCALENDAR
PRODID:-//Pixl8//Eventfolio//EN
VERSION:2.0
X-WR-TIMEZONE:Australia/Sydney
CALSCALE:GREGORIAN
METHOD:PUBLISH
CLASS:PUBLIC
BEGIN:VTIMEZONE
TZID:Australia/Sydney
LAST-MODIFIED:20260306T231828Z
TZURL:https://www.tzurl.org/zoneinfo-outlook/Australia/Sydney
X-LIC-LOCATION:Australia/Sydney
BEGIN:STANDARD
TZNAME:AEST
TZOFFSETFROM:+1100
TZOFFSETTO:+1000
DTSTART:19700405T030000
RRULE:FREQ=YEARLY;BYMONTH=4;BYDAY=1SU
END:STANDARD
BEGIN:DAYLIGHT
TZNAME:AEDT
TZOFFSETFROM:+1000
TZOFFSETTO:+1100
DTSTART:19701004T020000
RRULE:FREQ=YEARLY;BYMONTH=10;BYDAY=1SU
END:DAYLIGHT
END:VTIMEZONE
BEGIN:VEVENT
DTSTART;TZID=Australia/Sydney:20250916T190000
DTEND;TZID=Australia/Sydney:20250916T200000
DTSTAMP:20260420T064733Z
UID:{CEE77A2A-BE83-40B4-83FCCD2EC89B2B83}
LOCATION:
SUMMARY:Cancer Nutrition Toolkit: Myths, Management, and Practical Strategies for Cancer Nurses
DESCRIPTION:Join Lauren Atkins, Advanced Accredited Practising Dietitian and member of the COSA Nutrition Group Executive, for a practical session unpacking common cancer nutrition myths, symptom management strategies, and tips for when a dietitian isn't immediately available.\n
 \n
 Event details: https://www.cnsa.org.au/ems-event-calendar/cancer-nutrition-toolkit.html
PRIORITY:1
END:VEVENT
END:VCALENDAR