BEGIN:VCALENDAR
PRODID:-//Pixl8//Eventfolio//EN
VERSION:2.0
X-WR-TIMEZONE:Australia/Sydney
CALSCALE:GREGORIAN
METHOD:PUBLISH
CLASS:PUBLIC
BEGIN:VTIMEZONE
TZID:Australia/Sydney
LAST-MODIFIED:20260306T231828Z
TZURL:https://www.tzurl.org/zoneinfo-outlook/Australia/Sydney
X-LIC-LOCATION:Australia/Sydney
BEGIN:STANDARD
TZNAME:AEST
TZOFFSETFROM:+1100
TZOFFSETTO:+1000
DTSTART:19700405T030000
RRULE:FREQ=YEARLY;BYMONTH=4;BYDAY=1SU
END:STANDARD
BEGIN:DAYLIGHT
TZNAME:AEDT
TZOFFSETFROM:+1000
TZOFFSETTO:+1100
DTSTART:19701004T020000
RRULE:FREQ=YEARLY;BYMONTH=10;BYDAY=1SU
END:DAYLIGHT
END:VTIMEZONE
BEGIN:VEVENT
DTSTART;TZID=Australia/Sydney:20250812T190000
DTEND;TZID=Australia/Sydney:20250812T200000
DTSTAMP:20260420T065855Z
UID:{E881BE99-B6E4-45CC-B787C5D87DB4DACE}
LOCATION:
SUMMARY:Beyond Tired: Evidence-Based Strategies for Cancer-Related Fatigue
DESCRIPTION:Join us for practical insights into recognising, assessing, and managing cancer-related fatigue. Learn evidence-based strategies including medical, exercise, and lifestyle interventions, with a focus on real-world application and multidisciplinary care\n
 \n
 Event details: https://www.cnsa.org.au/ems-event-calendar/beyond-tired-evidence-based-strategies-for-cancer-related-fatigue.html
PRIORITY:1
END:VEVENT
END:VCALENDAR