BEGIN:VCALENDAR
PRODID:-//Pixl8//Eventfolio//EN
VERSION:2.0
X-WR-TIMEZONE:Australia/Adelaide
CALSCALE:GREGORIAN
METHOD:PUBLISH
CLASS:PUBLIC
BEGIN:VTIMEZONE
TZID:Australia/Adelaide
LAST-MODIFIED:20260306T231828Z
TZURL:https://www.tzurl.org/zoneinfo-outlook/Australia/Adelaide
X-LIC-LOCATION:Australia/Adelaide
BEGIN:STANDARD
TZNAME:ACST
TZOFFSETFROM:+1030
TZOFFSETTO:+0930
DTSTART:19700405T030000
RRULE:FREQ=YEARLY;BYMONTH=4;BYDAY=1SU
END:STANDARD
BEGIN:DAYLIGHT
TZNAME:ACDT
TZOFFSETFROM:+0930
TZOFFSETTO:+1030
DTSTART:19701004T020000
RRULE:FREQ=YEARLY;BYMONTH=10;BYDAY=1SU
END:DAYLIGHT
END:VTIMEZONE
BEGIN:VEVENT
DTSTART;TZID=Australia/Adelaide:20260516T090000
DTEND;TZID=Australia/Adelaide:20260516T113000
DTSTAMP:20260420T060020Z
UID:{86B557FA-9E1E-4715-B561CD823E2BDADB}
LOCATION:Jarmers Kitchen - Adelaide\, 18 Park Tce\, Bowden\, SA 5007; Mantra - Mount Gambier\, 96 Jubilee Highway\, Mount Gambier\, SA 5290
SUMMARY:Apheresis Breakfast
DESCRIPTION:Fuel up for the day with an interactive breakfast event exploring the essentials of apheresis and its role in cancer care. Our interactive breakfast education session will enhance your clinical knowledge and practical understanding of apheresis therapies used in oncology settings.\n
 \n
 Event details: https://www.cnsa.org.au/ems-event-calendar/apheresis-breakfast.html
PRIORITY:1
END:VEVENT
END:VCALENDAR