BEGIN:VCALENDAR
PRODID:-//Pixl8//Eventfolio//EN
VERSION:2.0
X-WR-TIMEZONE:Australia/Sydney
CALSCALE:GREGORIAN
METHOD:PUBLISH
CLASS:PUBLIC
BEGIN:VTIMEZONE
TZID:Australia/Sydney
LAST-MODIFIED:20260306T231828Z
TZURL:https://www.tzurl.org/zoneinfo-outlook/Australia/Sydney
X-LIC-LOCATION:Australia/Sydney
BEGIN:STANDARD
TZNAME:AEST
TZOFFSETFROM:+1100
TZOFFSETTO:+1000
DTSTART:19700405T030000
RRULE:FREQ=YEARLY;BYMONTH=4;BYDAY=1SU
END:STANDARD
BEGIN:DAYLIGHT
TZNAME:AEDT
TZOFFSETFROM:+1000
TZOFFSETTO:+1100
DTSTART:19701004T020000
RRULE:FREQ=YEARLY;BYMONTH=10;BYDAY=1SU
END:DAYLIGHT
END:VTIMEZONE
BEGIN:VEVENT
DTSTART;TZID=Australia/Sydney:20250415T190000
DTEND;TZID=Australia/Sydney:20250415T200000
DTSTAMP:20260421T184345Z
UID:{D0693DC5-74B3-4E0E-B7CF16604D1C50D4}
LOCATION:
SUMMARY:A focus on mesothelioma
DESCRIPTION:Join us for an important webinar in collaboration with our national partner, Slater and Gordon, as we explore mesothelioma - a rare and aggressive cancer linked to asbestos exposure.\n
 \n
 Event details: https://www.cnsa.org.au/ems-event-calendar/a-focus-on-mesothelioma.html
PRIORITY:1
END:VEVENT
END:VCALENDAR